1.5625
0
0
-1.5625
190684.958024
315362.438772
