1.5625
0
0
-1.5625
76526.7460236
384914.436709
