1.5625
0
0
-1.5625
116437.042024
465482.664646
