1.5625
0
0
-1.5625
127079.556024
524283.778713
