1.5625
0
0
-1.5625
38553.6670236
397628.599134
