1.5625
0
0
-1.5625
239037.617024
602515.465598
