1.5625
0
0
-1.5625
204387.809024
550200.040831
