1.5625
0
0
-1.5625
211844.614024
437904.094638
