1.5625
0
0
-1.5625
237611.517024
566987.606819
