1.5625
0
0
-1.5625
113918.516024
462308.756965
