1.5625
0
0
-1.5625
229647.218024
567282.813575
