1.5625
0
0
-1.5625
214543.156024
451640.288417
