1.5625
0
0
-1.5625
111819.083024
469567.658307
