1.5625
0
0
-1.5625
244696.894024
603944.061732
