1.5625
0
0
-1.5625
243859.082024
571138.84711
