1.5625
0
0
-1.5625
111116.154024
514861.77524
