1.5625
0
0
-1.5625
134689.926024
425743.688563
