1.5625
0
0
-1.5625
100134.346024
389437.695087
