1.5625
0
0
-1.5625
71211.1260236
435302.353484
