10.0
0.0
0.0
-10.0
140005
556245
