0.625
0.0
0.0
-0.625
240000.3125
587499.6875
