0.625
0.0
0.0
-0.625
130000.3125
568749.6875
