0.625
0.0
0.0
-0.625
130000.3125
506249.6875
