0.625
0.0
0.0
-0.625
140000.3125
506249.6875
