0.625
0.0
0.0
-0.625
190000.3125
524999.6875
