0.625
0.0
0.0
-0.625
110000.3125
481249.6875
