0.625
0.0
0.0
-0.625
120000.3125
487499.6875
