0.625
0.0
0.0
-0.625
210000.3125
468749.6875
