0.625
0.0
0.0
-0.625
30000.3125
406249.6875
