0.625
0.0
0.0
-0.625
40000.3125
406249.6875
