0.625
0.0
0.0
-0.625
100000.3125
368749.6875
