0.625
0.0
0.0
-0.625
210000.3125
374999.6875
