0.625
0.0
0.0
-0.625
170000.3125
306249.6875
