0.625
0.0
0.0
-0.625
280000.3125
612499.6875
