0.625
0.0
0.0
-0.625
240000.3125
418749.6875
