0.625
0.0
0.0
-0.625
230000.3125
393749.6875
