0.625
0.0
0.0
-0.625
20000.3125
343749.6875
