0.625
0.0
0.0
-0.625
200000.3125
287499.6875
