0.3125
0.0
0.0
-0.3125
125000.15625
581249.84375
