0.3125
0.0
0.0
-0.3125
160000.15625
596874.84375
