0.3125
0.0
0.0
-0.3125
180000.15625
559374.84375
