0.3125
0.0
0.0
-0.3125
215000.15625
553124.84375
