0.3125
0.0
0.0
-0.3125
185000.15625
531249.84375
