0.3125
0.0
0.0
-0.3125
130000.15625
512499.84375
