0.3125
0.0
0.0
-0.3125
135000.15625
506249.84375
