0.3125
0.0
0.0
-0.3125
195000.15625
503124.84375
