0.3125
0.0
0.0
-0.3125
235000.15625
509374.84375
