0.3125
0.0
0.0
-0.3125
245000.15625
524999.84375
