0.3125
0.0
0.0
-0.3125
155000.15625
487499.84375
