0.3125
0.0
0.0
-0.3125
210000.15625
499999.84375
